BEGIN:VCALENDAR
VERSION:2.0
PRODID:-//SteeNaLa - ECPv6.15.12.2//NONSGML v1.0//EN
CALSCALE:GREGORIAN
METHOD:PUBLISH
X-ORIGINAL-URL:https://steenala.de/wordpress
X-WR-CALDESC:Veranstaltungen für SteeNaLa
REFRESH-INTERVAL;VALUE=DURATION:PT1H
X-Robots-Tag:noindex
X-PUBLISHED-TTL:PT1H
BEGIN:VTIMEZONE
TZID:Europe/Berlin
BEGIN:DAYLIGHT
TZOFFSETFROM:+0100
TZOFFSETTO:+0200
TZNAME:CEST
DTSTART:20250330T010000
END:DAYLIGHT
BEGIN:STANDARD
TZOFFSETFROM:+0200
TZOFFSETTO:+0100
TZNAME:CET
DTSTART:20251026T010000
END:STANDARD
BEGIN:DAYLIGHT
TZOFFSETFROM:+0100
TZOFFSETTO:+0200
TZNAME:CEST
DTSTART:20260329T010000
END:DAYLIGHT
BEGIN:STANDARD
TZOFFSETFROM:+0200
TZOFFSETTO:+0100
TZNAME:CET
DTSTART:20261025T010000
END:STANDARD
BEGIN:DAYLIGHT
TZOFFSETFROM:+0100
TZOFFSETTO:+0200
TZNAME:CEST
DTSTART:20270328T010000
END:DAYLIGHT
BEGIN:STANDARD
TZOFFSETFROM:+0200
TZOFFSETTO:+0100
TZNAME:CET
DTSTART:20271031T010000
END:STANDARD
END:VTIMEZONE
BEGIN:VEVENT
DTSTART;TZID=Europe/Berlin:20260423T180000
DTEND;TZID=Europe/Berlin:20260423T200000
DTSTAMP:20260423T115056
CREATED:20260327T135357Z
LAST-MODIFIED:20260327T135357Z
UID:4224-1776967200-1776974400@steenala.de
SUMMARY:Lauftreff bei jedem Wetter | Walking-Gruppe und Jogging-Gruppe | Offen für alle
DESCRIPTION:
URL:https://steenala.de/wordpress/event/lauftreff-bei-jedem-wetter-walking-gruppe-und-jogging-gruppe-offen-fuer-alle-12/
ATTACH;FMTTYPE=image/png:https://steenala.de/wordpress/wp-content/uploads/2025/10/lauftreff_Kalender_gross.png
END:VEVENT
BEGIN:VEVENT
DTSTART;TZID=Europe/Berlin:20260423T180000
DTEND;TZID=Europe/Berlin:20260423T200000
DTSTAMP:20260423T115056
CREATED:20260327T135925Z
LAST-MODIFIED:20260327T135925Z
UID:4235-1776967200-1776974400@steenala.de
SUMMARY:Gesellschaftsspiele | Offen für alle
DESCRIPTION:
URL:https://steenala.de/wordpress/event/gesellschaftsspiele-offen-fuer-alle-15/
ATTACH;FMTTYPE=image/png:https://steenala.de/wordpress/wp-content/uploads/2024/01/spiele.png
END:VEVENT
BEGIN:VEVENT
DTSTART;TZID=Europe/Berlin:20260424T143000
DTEND;TZID=Europe/Berlin:20260424T163000
DTSTAMP:20260423T115056
CREATED:20260327T142715Z
LAST-MODIFIED:20260327T142715Z
UID:4243-1777041000-1777048200@steenala.de
SUMMARY:Künstlermandalas selbst gestalten
DESCRIPTION:Anmeldung bitte unter info@steenala.de
URL:https://steenala.de/wordpress/event/kuenstlermandalas-selbst-gestalten-12/
ATTACH;FMTTYPE=image/png:https://steenala.de/wordpress/wp-content/uploads/2025/01/mandala_Kalender_480x480.png
END:VEVENT
BEGIN:VEVENT
DTSTART;TZID=Europe/Berlin:20260425T110000
DTEND;TZID=Europe/Berlin:20260425T133000
DTSTAMP:20260423T115056
CREATED:20260327T143005Z
LAST-MODIFIED:20260327T143005Z
UID:4247-1777114800-1777123800@steenala.de
SUMMARY:Offenes Café mit Digitalsprechstunde
DESCRIPTION:
URL:https://steenala.de/wordpress/event/offenes-cafe-mit-digitalsprechstunde-14/
ATTACH;FMTTYPE=image/jpeg:https://steenala.de/wordpress/wp-content/uploads/2024/07/IMG_0397-scaled-e1721937385111.jpg
END:VEVENT
BEGIN:VEVENT
DTSTART;TZID=Europe/Berlin:20260425T140000
DTEND;TZID=Europe/Berlin:20260425T170000
DTSTAMP:20260423T115056
CREATED:20260331T103030Z
LAST-MODIFIED:20260401T173126Z
UID:4288-1777125600-1777136400@steenala.de
SUMMARY:Puzzeln für alle | Puzzle gerne mitbringen
DESCRIPTION:
URL:https://steenala.de/wordpress/event/puzzeln-fuer-alle-puzzle-gerne-mitbringen-3/
ATTACH;FMTTYPE=image/png:https://steenala.de/wordpress/wp-content/uploads/2025/10/Puzzel_Schnitt.png
END:VEVENT
BEGIN:VEVENT
DTSTART;TZID=Europe/Berlin:20260426T140000
DTEND;TZID=Europe/Berlin:20260426T170000
DTSTAMP:20260423T115056
CREATED:20260331T103959Z
LAST-MODIFIED:20260414T172722Z
UID:4297-1777212000-1777222800@steenala.de
SUMMARY:Kleider- und Pflanzentausch | Offen für Alle
DESCRIPTION:
URL:https://steenala.de/wordpress/event/kleider-und-pflanzentausch-offen-fuer-alle/
ATTACH;FMTTYPE=image/png:https://steenala.de/wordpress/wp-content/uploads/2026/04/kleider_pflanze_tausch_kalender.png
END:VEVENT
BEGIN:VEVENT
DTSTART;TZID=Europe/Berlin:20260426T183000
DTEND;TZID=Europe/Berlin:20260426T203000
DTSTAMP:20260423T115056
CREATED:20260327T162258Z
LAST-MODIFIED:20260327T162258Z
UID:4255-1777228200-1777235400@steenala.de
SUMMARY:Yoga mit anschließendem Beisammensein | Offen für alle
DESCRIPTION:
URL:https://steenala.de/wordpress/event/yoga-mit-anschliessendem-beisammensein-offen-fuer-alle-11/
ATTACH;FMTTYPE=image/png:https://steenala.de/wordpress/wp-content/uploads/2024/07/YOGA_Schnitt.png
END:VEVENT
BEGIN:VEVENT
DTSTART;TZID=Europe/Berlin:20260427T150000
DTEND;TZID=Europe/Berlin:20260427T170000
DTSTAMP:20260423T115056
CREATED:20260327T162845Z
LAST-MODIFIED:20260327T162845Z
UID:4261-1777302000-1777309200@steenala.de
SUMMARY:Handarbeiten
DESCRIPTION:
URL:https://steenala.de/wordpress/event/handarbeiten-53/
ATTACH;FMTTYPE=image/png:https://steenala.de/wordpress/wp-content/uploads/2024/09/Handarbeiten.png
END:VEVENT
BEGIN:VEVENT
DTSTART;TZID=Europe/Berlin:20260427T180000
DTEND;TZID=Europe/Berlin:20260427T190000
DTSTAMP:20260423T115056
CREATED:20260331T102328Z
LAST-MODIFIED:20260331T102328Z
UID:4282-1777312800-1777316400@steenala.de
SUMMARY:Zumba | Offen für Alle
DESCRIPTION:
URL:https://steenala.de/wordpress/event/zumba-offen-fuer-alle-2/
ATTACH;FMTTYPE=image/jpeg:https://steenala.de/wordpress/wp-content/uploads/2024/07/IMG_0547-scaled.jpg
END:VEVENT
BEGIN:VEVENT
DTSTART;TZID=Europe/Berlin:20260428T163000
DTEND;TZID=Europe/Berlin:20260428T173000
DTSTAMP:20260423T115056
CREATED:20260329T161653Z
LAST-MODIFIED:20260329T161903Z
UID:4271-1777393800-1777397400@steenala.de
SUMMARY:Lernhilfe für Kinder Klasse 1-6
DESCRIPTION:Anmeldung für neue Kinder unter: 01772738622
URL:https://steenala.de/wordpress/event/lernhilfe-fuer-kinder-klasse-1-6-82/
ATTACH;FMTTYPE=image/png:https://steenala.de/wordpress/wp-content/uploads/2025/12/lernhilfe.png
END:VEVENT
BEGIN:VEVENT
DTSTART;TZID=Europe/Berlin:20260428T183000
DTEND;TZID=Europe/Berlin:20260428T200000
DTSTAMP:20260423T115056
CREATED:20260331T104207Z
LAST-MODIFIED:20260401T161837Z
UID:4299-1777401000-1777406400@steenala.de
SUMMARY:Krimilesung mit  dem Autor Rainer Sockoll | Geschichten aus der Sessenbergstraße
DESCRIPTION:
URL:https://steenala.de/wordpress/event/krimilesung-mit-dem-autor-rainer-sockoll-geschichten-aus-der-sessenbergstrasse/
ATTACH;FMTTYPE=image/jpeg:https://steenala.de/wordpress/wp-content/uploads/2026/04/poster_sockoll_veranstaltung-scaled.jpg
END:VEVENT
BEGIN:VEVENT
DTSTART;TZID=Europe/Berlin:20260429T090000
DTEND;TZID=Europe/Berlin:20260429T110000
DTSTAMP:20260423T115056
CREATED:20260327T132834Z
LAST-MODIFIED:20260327T132834Z
UID:4201-1777453200-1777460400@steenala.de
SUMMARY:Offener Treff für Eltern mit Kleinkindern
DESCRIPTION:
URL:https://steenala.de/wordpress/event/offener-treff-fuer-eltern-mit-kleinkindern-93/
ATTACH;FMTTYPE=image/png:https://steenala.de/wordpress/wp-content/uploads/2025/12/kleinkindertreff_2_600px.png
END:VEVENT
BEGIN:VEVENT
DTSTART;TZID=Europe/Berlin:20260429T110000
DTEND;TZID=Europe/Berlin:20260429T160000
DTSTAMP:20260423T115056
CREATED:20260327T133322Z
LAST-MODIFIED:20260327T133322Z
UID:4212-1777460400-1777478400@steenala.de
SUMMARY:Offene Begegnung für Alle
DESCRIPTION:
URL:https://steenala.de/wordpress/event/offene-begegnung-fuer-alle-36/
ATTACH;FMTTYPE=image/png:https://steenala.de/wordpress/wp-content/uploads/2025/12/treffpunkt_2_600px.png
END:VEVENT
BEGIN:VEVENT
DTSTART;TZID=Europe/Berlin:20260429T180000
DTEND;TZID=Europe/Berlin:20260429T200000
DTSTAMP:20260423T115056
CREATED:20260331T103433Z
LAST-MODIFIED:20260331T103433Z
UID:4290-1777485600-1777492800@steenala.de
SUMMARY:Doppelkopf für Geübte
DESCRIPTION:bitte Anmeldung unter info@steenala.de
URL:https://steenala.de/wordpress/event/doppelkopf-fuer-geuebte-29/
ATTACH;FMTTYPE=image/jpeg:https://steenala.de/wordpress/wp-content/uploads/2024/07/doppelkopf.jpg
END:VEVENT
BEGIN:VEVENT
DTSTART;TZID=Europe/Berlin:20260430T180000
DTEND;TZID=Europe/Berlin:20260430T200000
DTSTAMP:20260423T115056
CREATED:20260327T135431Z
LAST-MODIFIED:20260327T135431Z
UID:4226-1777572000-1777579200@steenala.de
SUMMARY:Lauftreff bei jedem Wetter | Walking-Gruppe und Jogging-Gruppe | Offen für alle
DESCRIPTION:
URL:https://steenala.de/wordpress/event/lauftreff-bei-jedem-wetter-walking-gruppe-und-jogging-gruppe-offen-fuer-alle-13/
ATTACH;FMTTYPE=image/png:https://steenala.de/wordpress/wp-content/uploads/2025/10/lauftreff_Kalender_gross.png
END:VEVENT
BEGIN:VEVENT
DTSTART;TZID=Europe/Berlin:20260430T180000
DTEND;TZID=Europe/Berlin:20260430T200000
DTSTAMP:20260423T115056
CREATED:20260327T140027Z
LAST-MODIFIED:20260327T140027Z
UID:4237-1777572000-1777579200@steenala.de
SUMMARY:Gesellschaftsspiele | Offen für alle
DESCRIPTION:
URL:https://steenala.de/wordpress/event/gesellschaftsspiele-offen-fuer-alle-16/
ATTACH;FMTTYPE=image/png:https://steenala.de/wordpress/wp-content/uploads/2024/01/spiele.png
END:VEVENT
END:VCALENDAR