BEGIN:VCALENDAR
VERSION:2.0
PRODID:-//SteeNaLa - ECPv6.15.12.2//NONSGML v1.0//EN
CALSCALE:GREGORIAN
METHOD:PUBLISH
X-WR-CALNAME:SteeNaLa
X-ORIGINAL-URL:https://steenala.de/wordpress
X-WR-CALDESC:Veranstaltungen für SteeNaLa
REFRESH-INTERVAL;VALUE=DURATION:PT1H
X-Robots-Tag:noindex
X-PUBLISHED-TTL:PT1H
BEGIN:VTIMEZONE
TZID:Europe/Berlin
BEGIN:DAYLIGHT
TZOFFSETFROM:+0100
TZOFFSETTO:+0200
TZNAME:CEST
DTSTART:20250330T010000
END:DAYLIGHT
BEGIN:STANDARD
TZOFFSETFROM:+0200
TZOFFSETTO:+0100
TZNAME:CET
DTSTART:20251026T010000
END:STANDARD
BEGIN:DAYLIGHT
TZOFFSETFROM:+0100
TZOFFSETTO:+0200
TZNAME:CEST
DTSTART:20260329T010000
END:DAYLIGHT
BEGIN:STANDARD
TZOFFSETFROM:+0200
TZOFFSETTO:+0100
TZNAME:CET
DTSTART:20261025T010000
END:STANDARD
BEGIN:DAYLIGHT
TZOFFSETFROM:+0100
TZOFFSETTO:+0200
TZNAME:CEST
DTSTART:20270328T010000
END:DAYLIGHT
BEGIN:STANDARD
TZOFFSETFROM:+0200
TZOFFSETTO:+0100
TZNAME:CET
DTSTART:20271031T010000
END:STANDARD
END:VTIMEZONE
BEGIN:VEVENT
DTSTART;TZID=Europe/Berlin:20260201T150000
DTEND;TZID=Europe/Berlin:20260201T180000
DTSTAMP:20260423T161305
CREATED:20260123T163215Z
LAST-MODIFIED:20260123T163215Z
UID:3887-1769958000-1769968800@steenala.de
SUMMARY:Repaircafé | Offenes Café
DESCRIPTION:
URL:https://steenala.de/wordpress/event/repaircafe-offenes-cafe-16/
ATTACH;FMTTYPE=image/jpeg:https://steenala.de/wordpress/wp-content/uploads/2024/01/repaircafe.jpeg
END:VEVENT
BEGIN:VEVENT
DTSTART;TZID=Europe/Berlin:20260202T173000
DTEND;TZID=Europe/Berlin:20260202T200000
DTSTAMP:20260423T161305
CREATED:20260123T163644Z
LAST-MODIFIED:20260126T100652Z
UID:3891-1770053400-1770062400@steenala.de
SUMMARY:Vernissage zur Ausstellung "Sanierung in Steele"
DESCRIPTION:Mit Dia – Vortrag von Klaus Geiser vom Steeler Archiv
URL:https://steenala.de/wordpress/event/vernissage-zur-ausstellung-sanierung-in-steele/
ATTACH;FMTTYPE=image/png:https://steenala.de/wordpress/wp-content/uploads/2026/01/Flyer-Sanierungen-in-Steele_640px.png
END:VEVENT
BEGIN:VEVENT
DTSTART;TZID=Europe/Berlin:20260203T164500
DTEND;TZID=Europe/Berlin:20260203T174500
DTSTAMP:20260423T161305
CREATED:20260123T170824Z
LAST-MODIFIED:20260123T170824Z
UID:3917-1770137100-1770140700@steenala.de
SUMMARY:Lernhilfe für Kinder Klasse 1-6
DESCRIPTION:bitte mit Anmeldung unter:  01772738622
URL:https://steenala.de/wordpress/event/lernhilfe-fuer-kinder-klasse-1-6-76/
ATTACH;FMTTYPE=image/png:https://steenala.de/wordpress/wp-content/uploads/2025/12/lernhilfe.png
END:VEVENT
BEGIN:VEVENT
DTSTART;TZID=Europe/Berlin:20260204T093000
DTEND;TZID=Europe/Berlin:20260204T110000
DTSTAMP:20260423T161305
CREATED:20260123T172710Z
LAST-MODIFIED:20260123T172710Z
UID:3929-1770197400-1770202800@steenala.de
SUMMARY:Offener Treff für Eltern mit Kleinkindern
DESCRIPTION:
URL:https://steenala.de/wordpress/event/offener-treff-fuer-eltern-mit-kleinkindern-81/
ATTACH;FMTTYPE=image/png:https://steenala.de/wordpress/wp-content/uploads/2025/12/kleinkindertreff_2_600px.png
END:VEVENT
BEGIN:VEVENT
DTSTART;TZID=Europe/Berlin:20260204T110000
DTEND;TZID=Europe/Berlin:20260204T160000
DTSTAMP:20260423T161305
CREATED:20260123T172932Z
LAST-MODIFIED:20260123T172932Z
UID:3933-1770202800-1770220800@steenala.de
SUMMARY:Offene Begegnung für alle
DESCRIPTION:
URL:https://steenala.de/wordpress/event/offene-begegnung-fuer-alle-24/
ATTACH;FMTTYPE=image/png:https://steenala.de/wordpress/wp-content/uploads/2025/12/treffpunkt_2_600px.png
END:VEVENT
BEGIN:VEVENT
DTSTART;TZID=Europe/Berlin:20260204T181500
DTEND;TZID=Europe/Berlin:20260204T194500
DTSTAMP:20260423T161305
CREATED:20260123T164204Z
LAST-MODIFIED:20260123T164204Z
UID:3893-1770228900-1770234300@steenala.de
SUMMARY:Selbsthilfegruppe „Steeler Ruhehafen“ | Gemeinsam „trocken“ bleiben
DESCRIPTION:Anmeldung bitte unter:  steelerruhehafen@web.de
URL:https://steenala.de/wordpress/event/selbsthilfegruppe-steeler-ruhehafen-gemeinsam-trocken-bleiben-21/
ATTACH;FMTTYPE=image/jpeg:https://steenala.de/wordpress/wp-content/uploads/2025/02/ee8451e6-5477-409a-9862-14f78912afd5.jpg
END:VEVENT
BEGIN:VEVENT
DTSTART;TZID=Europe/Berlin:20260205T180000
DTEND;TZID=Europe/Berlin:20260205T200000
DTSTAMP:20260423T161305
CREATED:20260123T164506Z
LAST-MODIFIED:20260123T164506Z
UID:3895-1770314400-1770321600@steenala.de
SUMMARY:Lauftreff bei jedem Wetter | Walking-Gruppe und Jogging-Gruppe | Offen für alle
DESCRIPTION:
URL:https://steenala.de/wordpress/event/lauftreff-bei-jedem-wetter-walking-gruppe-und-jogging-gruppe-offen-fuer-alle/
ATTACH;FMTTYPE=image/png:https://steenala.de/wordpress/wp-content/uploads/2025/10/lauftreff_Kalender_gross.png
END:VEVENT
BEGIN:VEVENT
DTSTART;TZID=Europe/Berlin:20260205T180000
DTEND;TZID=Europe/Berlin:20260205T200000
DTSTAMP:20260423T161305
CREATED:20260123T165130Z
LAST-MODIFIED:20260123T165130Z
UID:3903-1770314400-1770321600@steenala.de
SUMMARY:Gesellschaftsspiele | Offen für alle
DESCRIPTION:
URL:https://steenala.de/wordpress/event/gesellschaftsspiele-offen-fuer-alle-5/
ATTACH;FMTTYPE=image/png:https://steenala.de/wordpress/wp-content/uploads/2024/01/spiele.png
END:VEVENT
BEGIN:VEVENT
DTSTART;TZID=Europe/Berlin:20260207T140000
DTEND;TZID=Europe/Berlin:20260207T170000
DTSTAMP:20260423T161305
CREATED:20260123T171119Z
LAST-MODIFIED:20260123T171119Z
UID:3919-1770472800-1770483600@steenala.de
SUMMARY:Puzzeln für alle | Puzzle gerne mitbringen
DESCRIPTION:
URL:https://steenala.de/wordpress/event/puzzeln-fuer-alle-puzzle-gerne-mitbringen/
ATTACH;FMTTYPE=image/png:https://steenala.de/wordpress/wp-content/uploads/2025/10/Puzzel_Schnitt.png
END:VEVENT
BEGIN:VEVENT
DTSTART;TZID=Europe/Berlin:20260208T103000
DTEND;TZID=Europe/Berlin:20260208T130000
DTSTAMP:20260423T161305
CREATED:20260123T171417Z
LAST-MODIFIED:20260123T171417Z
UID:3921-1770546600-1770555600@steenala.de
SUMMARY:Yoga mit anschließendem Beisammensein | Offen für alle
DESCRIPTION:
URL:https://steenala.de/wordpress/event/yoga-mit-anschliessendem-beisammensein-offen-fuer-alle-2/
ATTACH;FMTTYPE=image/png:https://steenala.de/wordpress/wp-content/uploads/2024/07/YOGA_Schnitt.png
END:VEVENT
BEGIN:VEVENT
DTSTART;TZID=Europe/Berlin:20260209T150000
DTEND;TZID=Europe/Berlin:20260209T170000
DTSTAMP:20260423T161305
CREATED:20260123T171518Z
LAST-MODIFIED:20260123T171518Z
UID:3923-1770649200-1770656400@steenala.de
SUMMARY:Handarbeiten
DESCRIPTION:
URL:https://steenala.de/wordpress/event/handarbeiten-48/
ATTACH;FMTTYPE=image/png:https://steenala.de/wordpress/wp-content/uploads/2024/09/Handarbeiten.png
END:VEVENT
BEGIN:VEVENT
DTSTART;TZID=Europe/Berlin:20260209T180000
DTEND;TZID=Europe/Berlin:20260209T190000
DTSTAMP:20260423T161305
CREATED:20260123T171610Z
LAST-MODIFIED:20260123T171610Z
UID:3925-1770660000-1770663600@steenala.de
SUMMARY:Zumba
DESCRIPTION:
URL:https://steenala.de/wordpress/event/zumba-21/
ATTACH;FMTTYPE=image/jpeg:https://steenala.de/wordpress/wp-content/uploads/2024/07/IMG_0547-scaled.jpg
END:VEVENT
BEGIN:VEVENT
DTSTART;TZID=Europe/Berlin:20260210T164500
DTEND;TZID=Europe/Berlin:20260210T174500
DTSTAMP:20260423T161305
CREATED:20260123T170054Z
LAST-MODIFIED:20260123T170054Z
UID:3911-1770741900-1770745500@steenala.de
SUMMARY:Lernhilfe für Kinder Klasse 1-6
DESCRIPTION:bitte mit Anmeldung unter:  01772738622
URL:https://steenala.de/wordpress/event/lernhilfe-fuer-kinder-klasse-1-6-73/
ATTACH;FMTTYPE=image/png:https://steenala.de/wordpress/wp-content/uploads/2025/12/lernhilfe.png
END:VEVENT
BEGIN:VEVENT
DTSTART;TZID=Europe/Berlin:20260210T180000
DTEND;TZID=Europe/Berlin:20260210T200000
DTSTAMP:20260423T161305
CREATED:20260123T172407Z
LAST-MODIFIED:20260123T172407Z
UID:3927-1770746400-1770753600@steenala.de
SUMMARY:Rund ums Buch | "Sehnsucht nach dem Norden" | Wir lesen vor: Offen für alle
DESCRIPTION:
URL:https://steenala.de/wordpress/event/rund-ums-buch-sehnsucht-nach-dem-norden-wir-lesen-vor-offen-fuer-alle/
ATTACH;FMTTYPE=image/jpeg:https://steenala.de/wordpress/wp-content/uploads/2024/07/IMG_0217-rotated.jpg
END:VEVENT
BEGIN:VEVENT
DTSTART;TZID=Europe/Berlin:20260211T090000
DTEND;TZID=Europe/Berlin:20260211T110000
DTSTAMP:20260423T161305
CREATED:20260123T172759Z
LAST-MODIFIED:20260123T172759Z
UID:3931-1770800400-1770807600@steenala.de
SUMMARY:Offener Treff für Eltern mit Kleinkindern
DESCRIPTION:
URL:https://steenala.de/wordpress/event/offener-treff-fuer-eltern-mit-kleinkindern-82/
ATTACH;FMTTYPE=image/png:https://steenala.de/wordpress/wp-content/uploads/2025/12/kleinkindertreff_2_600px.png
END:VEVENT
BEGIN:VEVENT
DTSTART;TZID=Europe/Berlin:20260211T110000
DTEND;TZID=Europe/Berlin:20260211T160000
DTSTAMP:20260423T161305
CREATED:20260123T173012Z
LAST-MODIFIED:20260123T173012Z
UID:3935-1770807600-1770825600@steenala.de
SUMMARY:Offene Begegnung für alle
DESCRIPTION:
URL:https://steenala.de/wordpress/event/offene-begegnung-fuer-alle-25/
ATTACH;FMTTYPE=image/png:https://steenala.de/wordpress/wp-content/uploads/2025/12/treffpunkt_2_600px.png
END:VEVENT
BEGIN:VEVENT
DTSTART;TZID=Europe/Berlin:20260211T190000
DTEND;TZID=Europe/Berlin:20260211T213000
DTSTAMP:20260423T161305
CREATED:20260126T101713Z
LAST-MODIFIED:20260126T101751Z
UID:3941-1770836400-1770845400@steenala.de
SUMMARY:"In den Seiten der Zeit - Ich leb so gern"
DESCRIPTION:Ein Film über die Auseinandersetzung Studierender mit der Geschichte einer NS-Verfolgten.\nIn Kooperation mit Mut machen – Steele bleibt bunt \n 
URL:https://steenala.de/wordpress/event/in-den-seiten-der-zeit-ich-leb-so-gern/
ATTACH;FMTTYPE=image/png:https://steenala.de/wordpress/wp-content/uploads/2026/01/Flyer-Film-Ich-leb-so-gerne_640px.png
END:VEVENT
BEGIN:VEVENT
DTSTART;TZID=Europe/Berlin:20260212T180000
DTEND;TZID=Europe/Berlin:20260212T190000
DTSTAMP:20260423T161305
CREATED:20260126T102209Z
LAST-MODIFIED:20260126T102209Z
UID:3943-1770919200-1770922800@steenala.de
SUMMARY:Achtsamkeit und Entspannung
DESCRIPTION:bitte anmelden unter: Wohlfuehlbox@gmx.de
URL:https://steenala.de/wordpress/event/achtsamkeit-und-entspannung-21/
ATTACH;FMTTYPE=image/jpeg:https://steenala.de/wordpress/wp-content/uploads/2024/07/IMG_0544-scaled.jpg
END:VEVENT
BEGIN:VEVENT
DTSTART;TZID=Europe/Berlin:20260212T180000
DTEND;TZID=Europe/Berlin:20260212T200000
DTSTAMP:20260423T161305
CREATED:20260123T164609Z
LAST-MODIFIED:20260123T164609Z
UID:3897-1770919200-1770926400@steenala.de
SUMMARY:Lauftreff bei jedem Wetter | Walking-Gruppe und Jogging-Gruppe | Offen für alle
DESCRIPTION:
URL:https://steenala.de/wordpress/event/lauftreff-bei-jedem-wetter-walking-gruppe-und-jogging-gruppe-offen-fuer-alle-2/
ATTACH;FMTTYPE=image/png:https://steenala.de/wordpress/wp-content/uploads/2025/10/lauftreff_Kalender_gross.png
END:VEVENT
BEGIN:VEVENT
DTSTART;TZID=Europe/Berlin:20260214T110000
DTEND;TZID=Europe/Berlin:20260214T133000
DTSTAMP:20260423T161305
CREATED:20260123T162544Z
LAST-MODIFIED:20260123T162544Z
UID:3883-1771066800-1771075800@steenala.de
SUMMARY:Offenes Café mit Digitalsprechstunde
DESCRIPTION:
URL:https://steenala.de/wordpress/event/offenes-cafe-mit-digitalsprechstunde-9/
ATTACH;FMTTYPE=image/jpeg:https://steenala.de/wordpress/wp-content/uploads/2024/05/Slider_juni_komp.jpg
END:VEVENT
BEGIN:VEVENT
DTSTART;TZID=Europe/Berlin:20260214T140000
DTEND;TZID=Europe/Berlin:20260214T170000
DTSTAMP:20260423T161305
CREATED:20260126T102738Z
LAST-MODIFIED:20260126T102803Z
UID:3947-1771077600-1771088400@steenala.de
SUMMARY:Yoga - Nidra und Klang
DESCRIPTION:Anmeldung bitte unter Herzraumklang@gmx.de
URL:https://steenala.de/wordpress/event/yoga-nidra-und-klang/
ATTACH;FMTTYPE=image/png:https://steenala.de/wordpress/wp-content/uploads/2024/07/YOGA_Schnitt.png
END:VEVENT
BEGIN:VEVENT
DTSTART;TZID=Europe/Berlin:20260215T103000
DTEND;TZID=Europe/Berlin:20260215T130000
DTSTAMP:20260423T161305
CREATED:20260126T103048Z
LAST-MODIFIED:20260126T103048Z
UID:3949-1771151400-1771160400@steenala.de
SUMMARY:Yoga mit anschließendem Beisammensein | Offen für alle
DESCRIPTION:
URL:https://steenala.de/wordpress/event/yoga-mit-anschliessendem-beisammensein-offen-fuer-alle-3/
ATTACH;FMTTYPE=image/png:https://steenala.de/wordpress/wp-content/uploads/2024/07/YOGA_Schnitt.png
END:VEVENT
BEGIN:VEVENT
DTSTART;TZID=Europe/Berlin:20260217T164500
DTEND;TZID=Europe/Berlin:20260217T174500
DTSTAMP:20260423T161305
CREATED:20260123T170236Z
LAST-MODIFIED:20260123T170236Z
UID:3913-1771346700-1771350300@steenala.de
SUMMARY:Lernhilfe für Kinder Klasse 1-6
DESCRIPTION:bitte mit Anmeldung unter:  01772738622
URL:https://steenala.de/wordpress/event/lernhilfe-fuer-kinder-klasse-1-6-74/
ATTACH;FMTTYPE=image/png:https://steenala.de/wordpress/wp-content/uploads/2025/12/lernhilfe.png
END:VEVENT
BEGIN:VEVENT
DTSTART;TZID=Europe/Berlin:20260217T190000
DTEND;TZID=Europe/Berlin:20260217T220000
DTSTAMP:20260423T161305
CREATED:20260126T103750Z
LAST-MODIFIED:20260126T103750Z
UID:3953-1771354800-1771365600@steenala.de
SUMMARY:Gemeinsamer Kinobesuch
DESCRIPTION:bei Interesse bitte melden unter 0173 26 92 96 8
URL:https://steenala.de/wordpress/event/gemeinsamer-kinobesuch-8/
ATTACH;FMTTYPE=image/png:https://steenala.de/wordpress/wp-content/uploads/2025/03/kino.png
END:VEVENT
BEGIN:VEVENT
DTSTART;TZID=Europe/Berlin:20260217T193000
DTEND;TZID=Europe/Berlin:20260217T210000
DTSTAMP:20260423T161305
CREATED:20260126T103412Z
LAST-MODIFIED:20260126T103412Z
UID:3951-1771356600-1771362000@steenala.de
SUMMARY:ADHS - Elternstammtisch
DESCRIPTION:
URL:https://steenala.de/wordpress/event/adhs-elternstammtisch-12/
ATTACH;FMTTYPE=image/png:https://steenala.de/wordpress/wp-content/uploads/2024/10/ADHS_480_kalender.png
END:VEVENT
BEGIN:VEVENT
DTSTART;TZID=Europe/Berlin:20260218T090000
DTEND;TZID=Europe/Berlin:20260218T110000
DTSTAMP:20260423T161305
CREATED:20260126T104041Z
LAST-MODIFIED:20260126T104041Z
UID:3957-1771405200-1771412400@steenala.de
SUMMARY:Offener Treff für Eltern mit Kleinkindern
DESCRIPTION:
URL:https://steenala.de/wordpress/event/offener-treff-fuer-eltern-mit-kleinkindern-83/
ATTACH;FMTTYPE=image/png:https://steenala.de/wordpress/wp-content/uploads/2025/12/kleinkindertreff_2_600px.png
END:VEVENT
BEGIN:VEVENT
DTSTART;TZID=Europe/Berlin:20260218T110000
DTEND;TZID=Europe/Berlin:20260218T160000
DTSTAMP:20260423T161305
CREATED:20260126T104203Z
LAST-MODIFIED:20260126T104203Z
UID:3959-1771412400-1771430400@steenala.de
SUMMARY:Offene Begegnung für alle
DESCRIPTION:
URL:https://steenala.de/wordpress/event/offene-begegnung-fuer-alle-26/
ATTACH;FMTTYPE=image/png:https://steenala.de/wordpress/wp-content/uploads/2025/12/treffpunkt_2_600px.png
END:VEVENT
BEGIN:VEVENT
DTSTART;TZID=Europe/Berlin:20260218T181500
DTEND;TZID=Europe/Berlin:20260218T194500
DTSTAMP:20260423T161305
CREATED:20260126T103918Z
LAST-MODIFIED:20260126T201951Z
UID:3955-1771438500-1771443900@steenala.de
SUMMARY:Selbsthilfegruppe „Steeler Ruhehafen“ | Gemeinsam „trocken“ bleiben
DESCRIPTION:Anmeldung bitte unter:  steelerruhehafen@web.de
URL:https://steenala.de/wordpress/event/selbsthilfegruppe-steeler-ruhehafen-gemeinsam-trocken-bleiben-22/
ATTACH;FMTTYPE=image/jpeg:https://steenala.de/wordpress/wp-content/uploads/2025/02/ee8451e6-5477-409a-9862-14f78912afd5.jpg
END:VEVENT
BEGIN:VEVENT
DTSTART;TZID=Europe/Berlin:20260219T180000
DTEND;TZID=Europe/Berlin:20260219T200000
DTSTAMP:20260423T161305
CREATED:20260123T164703Z
LAST-MODIFIED:20260123T164703Z
UID:3899-1771524000-1771531200@steenala.de
SUMMARY:Lauftreff bei jedem Wetter | Walking-Gruppe und Jogging-Gruppe | Offen für alle
DESCRIPTION:
URL:https://steenala.de/wordpress/event/lauftreff-bei-jedem-wetter-walking-gruppe-und-jogging-gruppe-offen-fuer-alle-3/
ATTACH;FMTTYPE=image/png:https://steenala.de/wordpress/wp-content/uploads/2025/10/lauftreff_Kalender_gross.png
END:VEVENT
BEGIN:VEVENT
DTSTART;TZID=Europe/Berlin:20260219T180000
DTEND;TZID=Europe/Berlin:20260219T200000
DTSTAMP:20260423T161305
CREATED:20260123T165358Z
LAST-MODIFIED:20260123T165358Z
UID:3905-1771524000-1771531200@steenala.de
SUMMARY:Gesellschaftsspiele | Offen für alle
DESCRIPTION:
URL:https://steenala.de/wordpress/event/gesellschaftsspiele-offen-fuer-alle-6/
ATTACH;FMTTYPE=image/png:https://steenala.de/wordpress/wp-content/uploads/2024/01/spiele.png
END:VEVENT
END:VCALENDAR